BEGIN:VCALENDAR
VERSION:2.0
PRODID:-//Fairmount - Events - ECPv6.2.0.1//NONSGML v1.0//EN
CALSCALE:GREGORIAN
X-WR-CALNAME:Fairmount - Events
X-ORIGINAL-URL:https://fairmountparkes.seattleschools.org/events/kindergar
 ten-woodland-park-zoo/ics/
X-WR-CALDESC:Fairmount - Events
REFRESH-INTERVAL;VALUE=DURATION:PT1D
X-Robots-Tag:noindex
X-PUBLISHED-TTL:PT1D
BEGIN:VTIMEZONE
TZID:America/Vancouver
BEGIN:DAYLIGHT
TZOFFSETFROM:-0800
TZOFFSETTO:-0700
TZNAME:PDT
DTSTART:20260308T100000
END:DAYLIGHT
BEGIN:STANDARD
TZOFFSETFROM:-0700
TZOFFSETTO:-0800
TZNAME:PST
DTSTART:20261101T090000
END:STANDARD
END:VTIMEZONE
BEGIN:VEVENT
DTSTART;TZID=America/Vancouver:20260508T090000
DTEND;TZID=America/Vancouver:20260508T133000
DTSTAMP:20260417T015444Z
CREATED:20260319T090316Z
LAST-MODIFIED:20260319T090320Z
UID:https://fairmountparkes.seattleschools.org/events/kindergarten-woodlan
 d-park-zoo/
SUMMARY:Kinders to Woodland Park 
DESCRIPTION:Kindergarten &amp;#8211\; Woodland Park Zoo
Kindergarten field trip to Woodland Park Zoo 
URL:https://fairmountparkes.seattleschools.org/events/kindergarten-woodlan
 d-park-zoo/
END:VEVENT
END:VCALENDAR